BEGIN:VCALENDAR
VERSION:2.0
PRODID:-//Hope - ECPv4.9.13//NONSGML v1.0//EN
CALSCALE:GREGORIAN
METHOD:PUBLISH
X-WR-CALNAME:Hope
X-ORIGINAL-URL:https://hope.be
X-WR-CALDESC:Events for Hope
BEGIN:VTIMEZONE
TZID:Europe/Brussels
BEGIN:DAYLIGHT
TZOFFSETFROM:+0100
TZOFFSETTO:+0200
TZNAME:CEST
DTSTART:20250330T010000
END:DAYLIGHT
BEGIN:STANDARD
TZOFFSETFROM:+0200
TZOFFSETTO:+0100
TZNAME:CET
DTSTART:20251026T010000
END:STANDARD
END:VTIMEZONE
BEGIN:VEVENT
DTSTART;VALUE=DATE:20251117
DTEND;VALUE=DATE:20251118
DTSTAMP:20260425T114839
CREATED:20251020T112226Z
LAST-MODIFIED:20251020T112719Z
UID:13826-1763337600-1763423999@hope.be
SUMMARY:RE-SAMPLE: Final webinar
DESCRIPTION:On 17 November 2025\, the RE-SAMPLE project will hold its closing event on the EU Health Policy Platform! \n➡️ We will present the outcomes of the project on real-world data monitoring and AI for personalised digital care for people with chronic conditions! \nRegister through here. \n
URL:https://hope.be/event/re-sample-final-webinar/
CATEGORIES:Next event,On the home page
END:VEVENT
END:VCALENDAR