BEGIN:VCALENDAR
VERSION:2.0
PRODID:-//Hope - ECPv4.9.13//NONSGML v1.0//EN
CALSCALE:GREGORIAN
METHOD:PUBLISH
X-WR-CALNAME:Hope
X-ORIGINAL-URL:https://hope.be
X-WR-CALDESC:Events for Hope
BEGIN:VTIMEZONE
TZID:Europe/Brussels
BEGIN:DAYLIGHT
TZOFFSETFROM:+0100
TZOFFSETTO:+0200
TZNAME:CEST
DTSTART:20260329T010000
END:DAYLIGHT
BEGIN:STANDARD
TZOFFSETFROM:+0200
TZOFFSETTO:+0100
TZNAME:CET
DTSTART:20261025T010000
END:STANDARD
END:VTIMEZONE
BEGIN:VEVENT
DTSTART;TZID=Europe/Brussels:20260520T080000
DTEND;TZID=Europe/Brussels:20260522T170000
DTSTAMP:20260425T152031
CREATED:20250818T113128Z
LAST-MODIFIED:20260212T082051Z
UID:13774-1779264000-1779469200@hope.be
SUMMARY:31st International Conference on Health Promoting Hospitals and Health Services
DESCRIPTION: \n📅 Date: May 20-22\, 2026📍 Location: Slagthuset\, Malmö\, Sweden \nThe upcoming international HPH Conference in Malmö brings together professionals and stakeholders who are committed to making healthcare more equitable\, resilient\, and health-promoting. Over three days\, participants will explore new approaches that support health systems and services in addressing today’s complex challenges. \nThe 2026 edition is also a moment of celebration: it coincides with the 40th anniversary of the WHO Ottawa Charter\, a milestone that continues to inspire transformative health promotion work around the world. Please visit the conference website regularly for the latest updates on the conference program. \n\nEarly bird rates are available until 13 February 2026.\nLast day to register is 30 April 2026.\nMore information: https://www.hphconferences.org/nc/malmo2026/.\n\n
URL:https://hope.be/event/health-promoting-hospitals/
LOCATION:Malmö\, Sweden
CATEGORIES:Next event,On the home page
END:VEVENT
END:VCALENDAR