BEGIN:VCALENDAR
VERSION:2.0
PRODID:-//Hope - ECPv4.9.13//NONSGML v1.0//EN
CALSCALE:GREGORIAN
METHOD:PUBLISH
X-WR-CALNAME:Hope
X-ORIGINAL-URL:https://hope.be
X-WR-CALDESC:Events for Hope
BEGIN:VTIMEZONE
TZID:Europe/Brussels
BEGIN:DAYLIGHT
TZOFFSETFROM:+0100
TZOFFSETTO:+0200
TZNAME:CEST
DTSTART:20250330T010000
END:DAYLIGHT
BEGIN:STANDARD
TZOFFSETFROM:+0200
TZOFFSETTO:+0100
TZNAME:CET
DTSTART:20251026T010000
END:STANDARD
END:VTIMEZONE
BEGIN:VEVENT
DTSTART;VALUE=DATE:20250930
DTEND;VALUE=DATE:20251002
DTSTAMP:20260425T141634
CREATED:20250605T125726Z
LAST-MODIFIED:20250605T125726Z
UID:13682-1759190400-1759363199@hope.be
SUMMARY:Future of Health Europe
DESCRIPTION:The Future of Health Europe summit will be held from 30 September to 1 October 2025. This two-day event is designed to give leaders insight and strategies to tackle these challenges and embrace the opportunities in the future of healthcare\, with a focus on digital health\, health economics\, sustainability\, and inclusivity. There will also be a new focus on AI at this year’s summit\, with a full day dedicated to AI in Health. \nFuture of Health Europe will convene public\, private and civil sector leaders across health and technology to build towards universally excellent healthcare outcomes. Policymakers\, healthcare providers\, academics\, and scientists will come together with leaders from industry\, technology experts\, innovators and entrepreneurs\, patient associations\, charities\, and finance. \nMore information. \n
URL:https://hope.be/event/future-of-health-europe/
LOCATION:London\, United Kingdom
CATEGORIES:Next event,On the home page
END:VEVENT
END:VCALENDAR